BEGIN:VCALENDAR
VERSION:2.0
PRODID:-//TAC - Technische Akustik - ECPv6.14.2//NONSGML v1.0//EN
CALSCALE:GREGORIAN
METHOD:PUBLISH
X-ORIGINAL-URL:https://www.tac-akustik.de
X-WR-CALDESC:Veranstaltungen für TAC - Technische Akustik
REFRESH-INTERVAL;VALUE=DURATION:PT1H
X-Robots-Tag:noindex
X-PUBLISHED-TTL:PT1H
BEGIN:VTIMEZONE
TZID:Europe/Paris
BEGIN:DAYLIGHT
TZOFFSETFROM:+0100
TZOFFSETTO:+0200
TZNAME:CEST
DTSTART:20260329T010000
END:DAYLIGHT
BEGIN:STANDARD
TZOFFSETFROM:+0200
TZOFFSETTO:+0100
TZNAME:CET
DTSTART:20261025T010000
END:STANDARD
END:VTIMEZONE
BEGIN:VEVENT
DTSTART;VALUE=DATE:20260421
DTEND;VALUE=DATE:20260425
DTSTAMP:20260420T034342
CREATED:20250716T095445Z
LAST-MODIFIED:20250729T110552Z
UID:3648-1776747600-1777006799@www.tac-akustik.de
SUMMARY:DEGA-Akademie-Kurs Bauakustik - von den Grundlagen zur Anwendung
DESCRIPTION:Zielsetzung\n\n\n\nDer Kurs lehrt die Bauakustik von den Grundlagen zu den Anwendungen in kompakter und praxisnaher Form sowie die wichtigsten Themen der Raumakustik. Er richtet sich insbesondere an Architekten und Bauingenieure in Beratungsbüros\, Behörden und Baufirmen\, die sich mit diesem Themenkomplex intensiver auseinander setzen wollen. \nIm Kurs Bauakustik (und Raumakustik) werden die theoretischen Grundlagen in dem Umfang aufbereitet\, wie es für das Verständnis von anwendungsbezogenen Aspekten notwendig ist. Der Bezug zu den praktischen Aufgaben und Problemstellungen der Bauakustik wird u. a. durch Beispiele aus der Praxis sowie eine Exkursion hergestellt. \n\nInhalt\n\n\n\nGrundlagen zur Akustik und Psychoakustik\nGrundlagen zum Körperschall\n\n u. a.: Ein- und Mehr-Massen-Schwinger\, Quell- und Strukturimpedanz\, Ankopplung an das Gebäude\n\nPhysikalische Grundlagen der Bauakustik\n\nLuftschalldämmung (ein- und zweischalige Systeme\, flankierende Bauteile\, Bewertungsverfahren)\nTrittschall\nInstallationsgeräusche und haustechnische Anlagen\n\nGesetzliche Anforderungen und Nachweise gemäß DIN 4109 (2018)\n\nAnforderungen im Vergleich\nRechnerischer Nachweis – die grundlegenden Neuerungen\nBauteilkatalog\n\nBauakustische Messtechnik\n\nMesstechnischer Nachweis (Anforderung an die Geräte\, Messverfahren\, Probleme)\nMessgenauigkeit\n\nAspekte der Baupraxis\n\nUnterschied Schalldämmung / Schallschutz\nJuristische Aspekte zu den Regeln der Technik\, DEGA-Schallschutzausweis\nKonstruktive Details (Massivwand\, doppelschalige massive Haustrennwand\, Haustrennwände in Holzbauweise\, Wärmedämmverbundsysteme\, Trockenbauwände\, Verglasung\, Türen\, Holzbalkendecken\, Estriche)\nBauteile im Hochbau\nSchallschutz im Skelettbau\n\nGrundlagen und Anwendung der Raumakustik\n\nAbsorber\, Nachhall\nKommunikationsräume (z. B. Besprechung\, Unterricht gemäß DIN 18041)\nBüroräume und Großraumbüros (Grundrissgestaltung\, Minderung der Schallausbreitung\, Raumbedämpfung\, Grundgeräuschpegel gemäß VDI 2569)\n\n\nIhre Referenten\n\n\n\n\n\n\nProf. Dr.-Ing. Alfred SchmitzTAC – Technische AkustikGeschäftsführung\n\n\n\n\n\n\n\nDr.-Ing. Volker WittstockPhysikalisch-Technische Bundesanstalt\, Braunschweig\n\n\n\n\n\n \n\n\n\n 
URL:https://www.tac-akustik.de/event/dega-akademie-kurs-bauakustik-von-den-grundlagen-zur-anwendung-5/
LOCATION:Haus der Wissenschaft Braunschweig\, Pockelsstraße 11\, Braunschweig\, Niedersachsen\, 38106\, Deutschland
CATEGORIES:Kundenseminare,Präsenzseminar,Seminare
END:VEVENT
BEGIN:VEVENT
DTSTART;TZID=Europe/Paris:20260505T090000
DTEND;TZID=Europe/Paris:20260506T170000
DTSTAMP:20260420T034342
CREATED:20251201T113053Z
LAST-MODIFIED:20260112T073633Z
UID:3707-1777971600-1778086800@www.tac-akustik.de
SUMMARY:Seminar Bauakustik
DESCRIPTION:Inhalt\n\n\n\nVon der Empfindung zum KennwertWas hört das Ohr\, was wird gemessen – wie ist die Empfindung? \nDer Weg des Schalls durch das GebäudeDie Entstehung von Luft- und Trittschallgeräuschen\, Installationsgeräuschen und Geräuschen aus haustechnischen Anlagen \nVom Sinn und Unsinn bauakustischer Kennwerte \nAnforderungen\, Normen und Richtlinien – die Hintergründe \nGrundlegende Konstruktionen und ihre SchalldämmungMassivbau\, Leichtbau\, ein- und zweischalige Bauteile\, Vorsatzschalen … \nSchallschutz ist nicht gleich Schallschutzgleicher Kennwert – unterschiedliche Empfindunggleiche Schalldämmung – ungleicher Schallschutz \nGeschuldeter Schallschutz – ein viel diskutiertes ThemaDie Diskrepanz zwischen den baurechtlichen und zivilrechtlichen Anforderungen. Was sagt die aktuelle Rechtsprechung? \nTiefe Frequenzen (Rumpeln\, Grollen und Dröhnen) – ein zunehmendes Problem ohne Lösung? \nSchallbrücken und ihre Auswirkungen auf die Schalldämmung \nBaukonstruktionen und Bauelemente – Vermeidung von Planungs- und AusführungsfehlernTüren\, Estriche\, Haustrennwände\, Doppelwandkonstruktion\, Treppen\, Dachkonstruktionen \nPlanen und Überwachen – die Qualitätssicherung im SchallschutzSchallschutznachweis\, messtechnische Überprüfung\, Güteprüfung \nWas bringt die Zukunft? Philosophie und Anforderungen der neuen DIN 4109. \nDas Seminar wird mit akustischen Demonstrationen durchgeführt. \n\n\n\nIhr Referent\n\n\n\n\n\n\nProf. Dr.-Ing. Alfred SchmitzTAC – Technische AkustikGeschäftsführung\n\n\n\n\n\n \n\n\n\n \n\n\n\n 
URL:https://www.tac-akustik.de/event/seminar-bauakustik-5/
LOCATION:Norsonic-Tippkemper GmbH\, Zum Kreuzweg 12\, Oelde-Stromberg\, Nordrhein-Westfalen\, 59302\, Deutschland
CATEGORIES:Kundenseminare,Präsenzseminar,Seminare
END:VEVENT
BEGIN:VEVENT
DTSTART;TZID=Europe/Paris:20260506T090000
DTEND;TZID=Europe/Paris:20260506T163000
DTSTAMP:20260420T034342
CREATED:20251201T113114Z
LAST-MODIFIED:20260112T073640Z
UID:3708-1778058000-1778085000@www.tac-akustik.de
SUMMARY:Seminar Bauakustik Messtechnik
DESCRIPTION:Inhalt\n\n\n\nBauakustische Kennwerte\nLuftschall: Bau-Schalldämm-Maß R; R´; R´w; R´w\,res; R´w45Trittschall: Norm-Trittschallpegel: L´n; L´n\,wInstallationsgeräusche und Pegel aus Haustechnischen Anlagen LAFmax\,nBauakustischer Mess- und BewertungsbereichC-Koeffizienten C\, CtrNachhallzeit T20;T30 \nNormen und Regelwerke\nDIN EN ISO 16283 Teil 1 und 2 Luft- und Trittschallmessung am BauDIN EN ISO 10032 Installationsgeräusche und haustechnische Anlagen am BauDIN 4109 Teil 4 Nationale Anwendung in Verbindung mit DIN 4109DIN EN ISO 717-1 und -2 BewertungsverfahrenDIN EN ISO 3382-2 Nachhallmessung in gewöhnlichen Räumen \nMessung der Luftschalldämmung\nHallraumverfahren– LS-Aufstellung und Positionen– MikrofonpositionenStörgeräuschermittlung und -korrekturNahfeldmessverfahrenMessung von AußenbauteilenMessung von TürenSerielle- und parallele MessungMessverfahren mit MLS-\, Sweep oder anderen SignalenVorgehen bei besonderen Bedingungen wie offene Grundrissstruktur o.ä. \nMessung der Trittschalldämmung\nEigenschaften des Norm-Trittschall-HammerwerksMessung der Trittschalldämmung– Hammerwerkspositionen– MikrofonpositionenStörgeräuschermittlung und -korrekturKorrektur der LuftschallübertragungTrittschallmessung von TreppenSchnelle Ermittlung von Körperschallbrücken \nMessung von Installationsgeräuschen und haustechnischen Anlagen\nMessung der SchalldruckpegelBedienzyklen der AnlageErmittlung der NachhallkorrekturSonderregelungen der DIN 4109Messung der Hilfsgrößen von Ruhedruck\, Fließdruck und Durchfluss bei Wasserinstallationen \nAufbau von Prüfzeugnissen\nInhalte der Prüfzeugnisse nach NormAnforderungen des VMPA an Prüfzeugnisse \nVorgehen bei der Prüfung\nAllgemeine Regel zum Vorgehen bei MessungenAnforderungen des VMPA an PrüfzeugnisseChecklisten des VMPABeschlussbuch des VMPA \nInterpretation von Schalldämm-Kurven\nVerlauf typischer Kurven zur LuftschalldämmungAuswirkungen von Schallbrücken und UndichtigkeitenVerlauf typischer Kurven zur TrittschalldämmungTypische Kurven von HolzbalkendeckenWirkung von DeckenauflagenWirkung von Schallbrücken \nBesondere Messtechniken\nKörperschallmesstechnikIntensitätsmesstechnikAufspüren von Körperschallbrücken \n\n\n\nIhre Referenten\n\n\n\n\n\n\nProf. Dr.-Ing. Alfred SchmitzTAC – Technische AkustikGeschäftsführung\n\n\n\n\n\n\n\nDipl.-Ing. Henrik TippkemperNorsonic-Tippkemper GmbHGeschäftführung\n\n\n\n\n\n \n\n\n\n 
URL:https://www.tac-akustik.de/event/seminar-bauakustik-messtechnik-5/
LOCATION:Norsonic-Tippkemper GmbH\, Zum Kreuzweg 12\, Oelde-Stromberg\, Nordrhein-Westfalen\, 59302\, Deutschland
CATEGORIES:Kundenseminare,Präsenzseminar,Seminare
END:VEVENT
END:VCALENDAR